BEGIN:VCALENDAR
VERSION:2.0
PRODID:-//Distribution Strategy Group - ECPv6.14.2//NONSGML v1.0//EN
CALSCALE:GREGORIAN
METHOD:PUBLISH
X-ORIGINAL-URL:https://archive.distributionstrategy.com
X-WR-CALDESC:Events for Distribution Strategy Group
REFRESH-INTERVAL;VALUE=DURATION:PT1H
X-Robots-Tag:noindex
X-PUBLISHED-TTL:PT1H
BEGIN:VTIMEZONE
TZID:America/New_York
BEGIN:DAYLIGHT
TZOFFSETFROM:-0500
TZOFFSETTO:-0400
TZNAME:EDT
DTSTART:20250309T070000
END:DAYLIGHT
BEGIN:STANDARD
TZOFFSETFROM:-0400
TZOFFSETTO:-0500
TZNAME:EST
DTSTART:20251102T060000
END:STANDARD
END:VTIMEZONE
BEGIN:VEVENT
DTSTART;TZID=America/New_York:20251014T120000
DTEND;TZID=America/New_York:20251014T130000
DTSTAMP:20260421T123043
CREATED:20250918T195115Z
LAST-MODIFIED:20260121T180742Z
UID:8170-1760443200-1760446800@archive.distributionstrategy.com
SUMMARY:AI News and Gurus: The Show for Intelligent Distributors
DESCRIPTION:Welcome to your unfair advantage in the AI arms race where strategic intelligence beats information overload. Distribution Strategy Group presents the essential series that cuts through the AI noise and delivers actionable insights for wholesale distributors. \nShow Format: \n\nAI Pulse Check: The critical AI developments are worth your attention. We sifted through hundreds\, so you don’t have to.\nIndustry Gurus Unplugged: Distribution leaders shared real-world AI wins and lessons learned.\nTech Guru Spotlight: Technology leaders brought to light the AI solutions that moved the needle in sales\, operations and customer experience.\nEmerging Blueprint: Our hosts identified the emerging AI trends poised to reshape how wholesale distributors create competitive advantage. Great for boardrooms and dinner parties.\n\nOur expert hosts Brian Hopkins and Brooks Hamilton brought together distribution knowledge and technical expertise to help you identify the competitive edge while competitors struggle to separate hype from reality.
URL:https://archive.distributionstrategy.com/event/ai-news-and-gurus-the-show-for-intelligent-distributors-6/
CATEGORIES:AI News & Gurus
ATTACH;FMTTYPE=image/jpeg:https://archive.distributionstrategy.com/wp-content/uploads/2025/09/1014-AING-Featured-Image-JPEG.jpg
END:VEVENT
END:VCALENDAR