BEGIN:VCALENDAR
VERSION:2.0
PRODID:-//Distribution Strategy Group - ECPv6.14.2//NONSGML v1.0//EN
CALSCALE:GREGORIAN
METHOD:PUBLISH
X-ORIGINAL-URL:https://archive.distributionstrategy.com
X-WR-CALDESC:Events for Distribution Strategy Group
REFRESH-INTERVAL;VALUE=DURATION:PT1H
X-Robots-Tag:noindex
X-PUBLISHED-TTL:PT1H
BEGIN:VTIMEZONE
TZID:America/New_York
BEGIN:DAYLIGHT
TZOFFSETFROM:-0500
TZOFFSETTO:-0400
TZNAME:EDT
DTSTART:20250309T070000
END:DAYLIGHT
BEGIN:STANDARD
TZOFFSETFROM:-0400
TZOFFSETTO:-0500
TZNAME:EST
DTSTART:20251102T060000
END:STANDARD
END:VTIMEZONE
BEGIN:VEVENT
DTSTART;TZID=America/New_York:20251202T120000
DTEND;TZID=America/New_York:20251202T130000
DTSTAMP:20260421T075514
CREATED:20251118T212834Z
LAST-MODIFIED:20260306T195606Z
UID:8513-1764676800-1764680400@archive.distributionstrategy.com
SUMMARY:AI News and Gurus: Strategic Insights Lead From Google
DESCRIPTION:Artificial intelligence is accelerating change across the B2B landscape. Join us for an in-depth session with Patricia Velázquez\, Educational Strategy and Insights Lead at Google\, as she breaks down newly released 2025 B2B research and shares how leading companies are adapting their sales\, marketing and customer experience strategies. \nPatricia will explore the trends shaping the next wave of digital commerce and what distributors can do now to stay ahead. This session gives you clear guidance on where AI is making an impact and how data driven insights are reshaping the competitive field. \nWhat You Will Learn \n\nKey takeaways from Google’s newest B2B research for 2025\n• How market leaders are applying AI to strengthen customer engagement\n• Emerging trends influencing buyer expectations and digital behavior\n• Practical steps distributors can take to modernize and differentiate\n• Insights on how the competitive landscape is shifting in real time\n\nWho Should Attend \n\nDistribution executives responsible for strategy and growth\n• Sales and marketing leaders focused on digital performance\n• Technology and data leaders evaluating AI opportunities\n• Anyone shaping customer experience\, analytics or modernization efforts\n\nReserve your spot today and gain a clearer view of how AI and B2B trends are evolving. Register now to access the insights you need to guide your next steps.
URL:https://archive.distributionstrategy.com/event/ai-news-and-gurus-educational-strategy-and-insights-lead/
CATEGORIES:AI News & Gurus
ATTACH;FMTTYPE=image/jpeg:https://archive.distributionstrategy.com/wp-content/uploads/2025/11/1202-Featured-Image-JPEG.jpg
END:VEVENT
BEGIN:VEVENT
DTSTART;TZID=America/New_York:20251218T080000
DTEND;TZID=America/New_York:20251218T170000
DTSTAMP:20260421T075514
CREATED:20251218T212006Z
LAST-MODIFIED:20260106T185850Z
UID:8678-1766044800-1766077200@archive.distributionstrategy.com
SUMMARY:AI News and Gurus: The Show for Intelligent Distributors
DESCRIPTION:Welcome to your unfair advantage in the AI arms race where strategic intelligence beats information overload. Distribution Strategy Group presents the essential series that cuts through the AI noise and delivers actionable insights for wholesale distributors. \nShow Format: \n\nAI Pulse Check: The critical AI developments are worth your attention. We sifted through hundreds\, so you don’t have to.\nIndustry Gurus Unplugged: Distribution leaders share real-world AI wins and lessons learned.\nTech Guru Spotlight: Technology leaders bring to light the AI solutions that move the needle in sales\, operations\, and customer experience.\nEmerging Blueprint: Our hosts identify the emerging AI trends poised to reshape how wholesale distributors create competitive advantage. Great for boardrooms and dinner parties.\n\nOur expert hosts Brian Hopkins and Brooks Hamilton bring together distribution knowledge and technical expertise to help you identify the competitive edge while competitors struggle to separate hype from reality.
URL:https://archive.distributionstrategy.com/event/ai-news-and-gurus-the-show-for-intelligent-distributors-8/
CATEGORIES:AI News & Gurus
ATTACH;FMTTYPE=image/jpeg:https://archive.distributionstrategy.com/wp-content/uploads/2025/12/0106-Feature-Image-JPEG-1.jpg
END:VEVENT
END:VCALENDAR