BEGIN:VCALENDAR
VERSION:2.0
PRODID:-//Distribution Strategy Group - ECPv6.14.2//NONSGML v1.0//EN
CALSCALE:GREGORIAN
METHOD:PUBLISH
X-WR-CALNAME:Distribution Strategy Group
X-ORIGINAL-URL:https://archive.distributionstrategy.com
X-WR-CALDESC:Events for Distribution Strategy Group
REFRESH-INTERVAL;VALUE=DURATION:PT1H
X-Robots-Tag:noindex
X-PUBLISHED-TTL:PT1H
BEGIN:VTIMEZONE
TZID:America/New_York
BEGIN:DAYLIGHT
TZOFFSETFROM:-0500
TZOFFSETTO:-0400
TZNAME:EDT
DTSTART:20260308T070000
END:DAYLIGHT
BEGIN:STANDARD
TZOFFSETFROM:-0400
TZOFFSETTO:-0500
TZNAME:EST
DTSTART:20261101T060000
END:STANDARD
END:VTIMEZONE
BEGIN:VEVENT
DTSTART;TZID=America/New_York:20260106T120000
DTEND;TZID=America/New_York:20260106T130000
DTSTAMP:20260421T065652
CREATED:20251219T135643Z
LAST-MODIFIED:20260310T190438Z
UID:8590-1767700800-1767704400@archive.distributionstrategy.com
SUMMARY:AI News and Gurus: The Show for Intelligent Distributors
DESCRIPTION:Artificial intelligence is moving quickly from experimentation to execution\, and distributors are under pressure to turn AI potential into measurable gains. In this session of AI News & Gurus\, Michael Luyster of CE shares how AI is being applied today to improve productivity\, customer responsiveness\, and operational efficiency across customer-facing workflows. \nMichael will walk through real-world AI use cases that are already delivering value\, showing how distributors can deploy practical tools without disrupting day-to-day operations. This discussion focuses on applied AI that supports associates\, accelerates service\, and frees teams to focus on higher-value work. \nWhat you will learn \n\nHow live call support tools transcribe and summarize conversations in real time\, restoring more than 10 hours of productivity per day.\nWhere AI-powered email composition improves consistency and speed while keeping final approval with associates.\nHow voicemail-to-case automation captures\, categorizes\, and routes issues without manual intervention.\nHow AI-enabled live chat improves response times and customer satisfaction.\nLessons learned from deploying AI in customer service environments at scale.\n\nWho should attend \n\nDistribution executives evaluating practical AI investments\nCustomer service\, inside sales\, and operations leaders\nTechnology and digital transformation leaders\nAnyone responsible for improving service efficiency and associate productivity\n\nJoin us for this installment of AI News & Gurus to gain clear\, actionable insight into AI applications that are already delivering results for distributors today. Register now to learn how to move from AI curiosity to AI impact.
URL:https://archive.distributionstrategy.com/event/ai-news-and-gurus-the-show-for-intelligent-distributors-9/
CATEGORIES:AI News & Gurus
ATTACH;FMTTYPE=image/jpeg:https://archive.distributionstrategy.com/wp-content/uploads/2025/12/0106-Feature-Image-JPEG.jpg
END:VEVENT
END:VCALENDAR