BEGIN:VCALENDAR
VERSION:2.0
PRODID:-//Distribution Strategy Group - ECPv6.14.2//NONSGML v1.0//EN
CALSCALE:GREGORIAN
METHOD:PUBLISH
X-WR-CALNAME:Distribution Strategy Group
X-ORIGINAL-URL:https://archive.distributionstrategy.com
X-WR-CALDESC:Events for Distribution Strategy Group
REFRESH-INTERVAL;VALUE=DURATION:PT1H
X-Robots-Tag:noindex
X-PUBLISHED-TTL:PT1H
BEGIN:VTIMEZONE
TZID:America/New_York
BEGIN:DAYLIGHT
TZOFFSETFROM:-0500
TZOFFSETTO:-0400
TZNAME:EDT
DTSTART:20220313T070000
END:DAYLIGHT
BEGIN:STANDARD
TZOFFSETFROM:-0400
TZOFFSETTO:-0500
TZNAME:EST
DTSTART:20221106T060000
END:STANDARD
END:VTIMEZONE
BEGIN:VEVENT
DTSTART;TZID=America/New_York:20220302T120000
DTEND;TZID=America/New_York:20220302T130000
DTSTAMP:20260423T102059
CREATED:20220303T051400Z
LAST-MODIFIED:20220617T205350Z
UID:2619-1646222400-1646226000@archive.distributionstrategy.com
SUMMARY:Wholesale Change:  How Distributors Win with Third-Party Marketplaces\, Feat. Kevin Weadick\, President of Zoro US
DESCRIPTION:In this episode Zoro President Kevin Weadick joined hosts Ian Heller and Jonathan Bein for a discussion on the role third-party marketplaces can play in distributors’ strategies today.
URL:https://archive.distributionstrategy.com/event/wholesale-change-how-distributors-win-with-third-party-marketplaces-feat-kevin-weadick-president-of-zoro-us/
CATEGORIES:Wholesale Change Show
ATTACH;FMTTYPE=image/jpeg:https://archive.distributionstrategy.com/wp-content/uploads/2022/04/WC-BLO1.jpg
END:VEVENT
BEGIN:VEVENT
DTSTART;TZID=America/New_York:20220316T120000
DTEND;TZID=America/New_York:20220316T130000
DTSTAMP:20260423T102059
CREATED:20220317T023700Z
LAST-MODIFIED:20220617T205350Z
UID:2620-1647432000-1647435600@archive.distributionstrategy.com
SUMMARY:Wholesale Change:  Why Losing Customers Costs More Than You Think
DESCRIPTION:n this episode hosts Ian Heller and Jonathan Bein share the true costs of customer defection – and the real upside of reducing it.
URL:https://archive.distributionstrategy.com/event/wholesale-change-why-losing-customers-costs-more-than-you-think/
CATEGORIES:Wholesale Change Show
ATTACH;FMTTYPE=image/jpeg:https://archive.distributionstrategy.com/wp-content/uploads/2022/04/WC-BLO1-1.jpg
END:VEVENT
BEGIN:VEVENT
DTSTART;TZID=America/New_York:20220330T120000
DTEND;TZID=America/New_York:20220330T130000
DTSTAMP:20260423T102059
CREATED:20220331T035100Z
LAST-MODIFIED:20220617T205351Z
UID:2621-1648641600-1648645200@archive.distributionstrategy.com
SUMMARY:Wholesale Change: Dakota Supply Group: Doubling Down on Service to Drive Organic Growth
DESCRIPTION:CEO Paul Kennedy about how the company’s focus on customer experience has driven profitable growth.
URL:https://archive.distributionstrategy.com/event/wholesale-change-dakota-supply-group-doubling-down-on-service-to-drive-organic-growth/
CATEGORIES:Wholesale Change Show
ATTACH;FMTTYPE=image/jpeg:https://archive.distributionstrategy.com/wp-content/uploads/2022/04/Wholesale-Change-Dakota-Supply-Group.jpg
END:VEVENT
END:VCALENDAR