BEGIN:VCALENDAR
VERSION:2.0
PRODID:-//Distribution Strategy Group - ECPv6.14.2//NONSGML v1.0//EN
CALSCALE:GREGORIAN
METHOD:PUBLISH
X-ORIGINAL-URL:https://archive.distributionstrategy.com
X-WR-CALDESC:Events for Distribution Strategy Group
REFRESH-INTERVAL;VALUE=DURATION:PT1H
X-Robots-Tag:noindex
X-PUBLISHED-TTL:PT1H
BEGIN:VTIMEZONE
TZID:America/New_York
BEGIN:DAYLIGHT
TZOFFSETFROM:-0500
TZOFFSETTO:-0400
TZNAME:EDT
DTSTART:20220313T070000
END:DAYLIGHT
BEGIN:STANDARD
TZOFFSETFROM:-0400
TZOFFSETTO:-0500
TZNAME:EST
DTSTART:20221106T060000
END:STANDARD
END:VTIMEZONE
BEGIN:VEVENT
DTSTART;TZID=America/New_York:20220511T120000
DTEND;TZID=America/New_York:20220511T130000
DTSTAMP:20260423T063116
CREATED:20220512T023000Z
LAST-MODIFIED:20220617T205351Z
UID:2624-1652270400-1652274000@archive.distributionstrategy.com
SUMMARY:Wholesale Change: Creating Relevancy in an Age of Disruption
DESCRIPTION:In this episode of Wholesale Change\, Dirk shared why distributors must adopt new ways of leading their companies to build a sustainable business today.
URL:https://archive.distributionstrategy.com/event/wholesale-change-creating-relevancy-in-an-age-of-disruption/
CATEGORIES:Wholesale Change Show
ATTACH;FMTTYPE=image/jpeg:https://archive.distributionstrategy.com/wp-content/uploads/2022/06/Creating-Relevancy-in-an-Age-of-Disruption.jpg
END:VEVENT
BEGIN:VEVENT
DTSTART;TZID=America/New_York:20220525T120000
DTEND;TZID=America/New_York:20220525T130000
DTSTAMP:20260423T063116
CREATED:20220526T034800Z
LAST-MODIFIED:20220617T205350Z
UID:2625-1653480000-1653483600@archive.distributionstrategy.com
SUMMARY:Wholesale Change:  MSC Industrial’s Reimagined Value Proposition for a Digital World
DESCRIPTION:In this webinar\, Erik Gershwind\, President and CEO of MSC Industrial Supply Co.\, talked about how the company has reimagined its value proposition\, driven digital transformation and learned to build its culture and retain talent in a virtual world.
URL:https://archive.distributionstrategy.com/event/wholesale-change-msc-industrials-reimagined-value-proposition-for-a-digital-world/
CATEGORIES:Wholesale Change Show
ATTACH;FMTTYPE=image/jpeg:https://archive.distributionstrategy.com/wp-content/uploads/2022/06/MSC-IN1.jpg
END:VEVENT
END:VCALENDAR