BEGIN:VCALENDAR
VERSION:2.0
PRODID:-//Distribution Strategy Group - ECPv6.14.2//NONSGML v1.0//EN
CALSCALE:GREGORIAN
METHOD:PUBLISH
X-ORIGINAL-URL:https://archive.distributionstrategy.com
X-WR-CALDESC:Events for Distribution Strategy Group
REFRESH-INTERVAL;VALUE=DURATION:PT1H
X-Robots-Tag:noindex
X-PUBLISHED-TTL:PT1H
BEGIN:VTIMEZONE
TZID:America/New_York
BEGIN:DAYLIGHT
TZOFFSETFROM:-0500
TZOFFSETTO:-0400
TZNAME:EDT
DTSTART:20240310T070000
END:DAYLIGHT
BEGIN:STANDARD
TZOFFSETFROM:-0400
TZOFFSETTO:-0500
TZNAME:EST
DTSTART:20241103T060000
END:STANDARD
END:VTIMEZONE
BEGIN:VEVENT
DTSTART;TZID=America/New_York:20240207T120000
DTEND;TZID=America/New_York:20240207T130000
DTSTAMP:20260423T052100
CREATED:20231115T190353Z
LAST-MODIFIED:20250902T224027Z
UID:5270-1707307200-1707310800@archive.distributionstrategy.com
SUMMARY:Technology Leader Panel: Understanding the New Wave of eCommerce Technology
DESCRIPTION:Emerging technologies and increased customer expectations are reshaping B2B ecommerce for distributors in 2024.  \nJoin us for this expert panel discussion on Feb. 7 at 9 PT/12 ET on what the next wave of B2B ecommerce technology will look like\, including technologies that drive greater personalization\, prioritize seamless omnichannel integration and increase visibility into future buying behaviors.  \nArtificial intelligence (AI)-powered functionality is top of mind for many distributors as they explore ways to build powerful digital capabilities at scale. We’ll talk about new ways to help your customers find what they need through voice and visual search. New technologies are also enabling greater operational efficiency for distributors selling online\, including inventory management\, product data and logistics.  \nOur panel will share the latest in B2B ecommerce and how distributors can evaluate and prioritize these tools for their own businesses. The goal is to enable a better customer experience across the board – increasing customer engagement\, solidifying customer loyalty and satisfaction\, and growing wallet share.
URL:https://archive.distributionstrategy.com/event/technology-leader-panel-understanding-the-new-wave-of-ecommerce-technology/
CATEGORIES:On-Demand Program
ATTACH;FMTTYPE=image/jpeg:https://archive.distributionstrategy.com/wp-content/uploads/2023/11/DSG-TLP-Site-Featured-2-7.jpg
END:VEVENT
BEGIN:VEVENT
DTSTART;TZID=America/New_York:20240214T120000
DTEND;TZID=America/New_York:20240214T130000
DTSTAMP:20260423T052100
CREATED:20231115T190047Z
LAST-MODIFIED:20250902T224120Z
UID:5269-1707912000-1707915600@archive.distributionstrategy.com
SUMMARY:Distribution Leader Panel: How Distributors are Building AI Capabilities
DESCRIPTION:Don’t drown in AI information overload – instead\, attend a discussion with distribution executives who will share how they’re taking steps to build a foundation of technology\, people and processes to ensure they can leverage AI long into the future.  \nThey’ll also share where they’ve already found wins. You’ll learn how they’re planning to use AI to improve sales effectiveness\, target marketing\, improve ecommerce performance and drive operational efficiencies.  \nYou won’t want to miss this session\, when your peers will share their successes – and lessons learned – so far with AI as an emerging tool for their businesses. Join us Feb. 14 at 9 PT / 12 ET. 
URL:https://archive.distributionstrategy.com/event/distribution-leader-panel-how-distributors-are-building-ai-expertise/
CATEGORIES:On-Demand Program
ATTACH;FMTTYPE=image/jpeg:https://archive.distributionstrategy.com/wp-content/uploads/2023/11/DSG-DLP-Site-Featured-2-14.jpg
END:VEVENT
BEGIN:VEVENT
DTSTART;TZID=America/New_York:20240221T120000
DTEND;TZID=America/New_York:20240221T130000
DTSTAMP:20260423T052100
CREATED:20231115T185723Z
LAST-MODIFIED:20241017T162058Z
UID:5268-1708516800-1708520400@archive.distributionstrategy.com
SUMMARY:Wholesale Change: The New BradyPLUS\, featuring Chief Marketing Officer Ian Gresham
DESCRIPTION:BradyIFS + Envoy Solutions\, a national distributor of janitorial-sanitation\, foodservice disposables and industrial packaging products\, just unveiled their new name: BradyPLUS. The new corporate identity follows the October 2023 merger of the two companies and is a step toward realizing the company’s priority of operating as one.   \nGet an inside view of the rebranded distributor’s story when we welcome BradyPLUS Chief Marketing Officer Ian Gresham to the Wholesale Change show on Feb. 21 at 9 PT/12 ET. His specialty in marketing\, omnichannel strategy and corporate communications is critical in a time of transformation for the merged organization.   \nHosts Ian Heller and Jonathan Bein will talk with Gresham about:  \n\nThe power of the combined distributors and their member companies \nHow BradyPLUS will leverage data to understand customers better \nBuilding a digital experience to enable more efficient buying \nHow the distributor balances digital with in-person expertise and value-added services \n\nRegister to attend live and ask Gresham questions\, or get the link to watch on-demand. 
URL:https://archive.distributionstrategy.com/event/wholesale-change-21/
CATEGORIES:Wholesale Change Show
ATTACH;FMTTYPE=image/jpeg:https://archive.distributionstrategy.com/wp-content/uploads/2023/11/WC-Site-Featured-2-21-1.jpg
END:VEVENT
BEGIN:VEVENT
DTSTART;TZID=America/New_York:20240228T120000
DTEND;TZID=America/New_York:20240228T130000
DTSTAMP:20260423T052100
CREATED:20240205T134228Z
LAST-MODIFIED:20250902T224215Z
UID:5533-1709121600-1709125200@archive.distributionstrategy.com
SUMMARY:The 4 Pillars of Profit Improvement
DESCRIPTION:Join us for an exclusive webcast on “The 4 Pillars of Profit Improvement” with Dr. Albert Bates\, a luminary in the field of distribution profitability. In this timely presentation\, Dr. Bates will delve into the remarkable surge in profitability levels within the distribution sector\, where profit margins have soared from a historical 3.0% to an unprecedented 5.0% and beyond in the past two years.  \nThis session promises to be a celebration of success while also addressing the looming challenge: sustaining these profit levels as the economic landscape shifts.  \nDr. Bates will dissect the critical role inflation has played in driving profits to new heights\, a factor often viewed with disdain yet undeniable in its impact. Through a detailed examination\, participants will gain insights into the mechanics of inflation-driven profitability and the lag in expense increases that has temporarily buoyed profits.  \nMore importantly\, this webcast will pivot to the strategic actions necessary to maintain and potentially elevate profit margins in changing economic conditions. Dr. Bates introduces the “4 Pillars of Profit Improvement\,” a pragmatic framework designed for distributors to navigate the competitive tumult and secure enduring profitability. Each pillar – Sales Growth\, Gross Margin\, Payroll Expenses\, and Non-payroll Expenses – will be explored in depth\, offering attendees a comprehensive blueprint for profit planning. 
URL:https://archive.distributionstrategy.com/event/the-4-pillars-of-profit-improvement/
CATEGORIES:On-Demand Program
ATTACH;FMTTYPE=image/jpeg:https://archive.distributionstrategy.com/wp-content/uploads/2024/02/DSG-BPS-Site-Featured-2-28.jpg
END:VEVENT
END:VCALENDAR