BEGIN:VCALENDAR
VERSION:2.0
PRODID:-//Distribution Strategy Group - ECPv6.14.2//NONSGML v1.0//EN
CALSCALE:GREGORIAN
METHOD:PUBLISH
X-ORIGINAL-URL:https://archive.distributionstrategy.com
X-WR-CALDESC:Events for Distribution Strategy Group
REFRESH-INTERVAL;VALUE=DURATION:PT1H
X-Robots-Tag:noindex
X-PUBLISHED-TTL:PT1H
BEGIN:VTIMEZONE
TZID:America/New_York
BEGIN:DAYLIGHT
TZOFFSETFROM:-0500
TZOFFSETTO:-0400
TZNAME:EDT
DTSTART:20240310T070000
END:DAYLIGHT
BEGIN:STANDARD
TZOFFSETFROM:-0400
TZOFFSETTO:-0500
TZNAME:EST
DTSTART:20241103T060000
END:STANDARD
END:VTIMEZONE
BEGIN:VEVENT
DTSTART;TZID=America/New_York:20241204T120000
DTEND;TZID=America/New_York:20241204T130000
DTSTAMP:20260423T052040
CREATED:20241105T171209Z
LAST-MODIFIED:20250902T230438Z
UID:6564-1733313600-1733317200@archive.distributionstrategy.com
SUMMARY:Technology Leader Panel: How AI Can Drive Sales\, Productivity and Profits
DESCRIPTION:Discover how AI is boosting distributors’ bottom lines\, streamlining operations\, increasing efficiency\, and uncovering sales opportunities.  \nOur expert panel will share real-world applications of AI\, from sales insights and inventory optimization to workflows that boost productivity.  \nLearn how to identify the right AI solutions for your business and get practical advice on overcoming common challenges.  \nJoin us Dec. 4 at 9 PT/12 ET. If you can’t make it live\, register anyway and we’ll send you a link to watch on-demand. 
URL:https://archive.distributionstrategy.com/event/technology-leader-panel-how-ai-can-drive-sales-productivity-and-profits-2/
CATEGORIES:On-Demand Program
ATTACH;FMTTYPE=image/jpeg:https://archive.distributionstrategy.com/wp-content/uploads/2024/11/DSG-TLP-Site-Featured-12-4-copy.jpg
END:VEVENT
BEGIN:VEVENT
DTSTART;TZID=America/New_York:20241211T120000
DTEND;TZID=America/New_York:20241211T130000
DTSTAMP:20260423T052040
CREATED:20241106T160959Z
LAST-MODIFIED:20250902T230533Z
UID:6568-1733918400-1733922000@archive.distributionstrategy.com
SUMMARY:Technology Leader Panel: Driving Growth with AI in Sales and Marketing
DESCRIPTION:For distributors that embrace it\, AI is changing the game for sales and marketing.  \nJoin us on Dec. 11 to hear from experts who will share how AI can help distributors reach the right customers\, grow wallet share and deepen customer relationships.   \nThe panel will also cover how AI can help distributors identify new market opportunities\, make smarter sales decisions\, and reshape their approach to marketing – from understanding customer behavior to refining your presence in your market.   \nJoin us Dec. 11 at 9 PT/12 ET. If you can’t make it live\, register anyway and we’ll send you a link to watch on-demand. 
URL:https://archive.distributionstrategy.com/event/technology-leader-panel-driving-growth-with-ai-in-sales-and-marketing/
CATEGORIES:On-Demand Program
ATTACH;FMTTYPE=image/jpeg:https://archive.distributionstrategy.com/wp-content/uploads/2024/11/DSG-TLP-Site-Featured-12-11-copy.jpg
END:VEVENT
END:VCALENDAR